BEGIN:VCALENDAR
VERSION:2.0
PRODID:-//Prescott Area Young Professionals - ECPv6.15.20//NONSGML v1.0//EN
CALSCALE:GREGORIAN
METHOD:PUBLISH
X-ORIGINAL-URL:https://prescottareayp.org
X-WR-CALDESC:Events for Prescott Area Young Professionals
REFRESH-INTERVAL;VALUE=DURATION:PT1H
X-Robots-Tag:noindex
X-PUBLISHED-TTL:PT1H
BEGIN:VTIMEZONE
TZID:America/Phoenix
BEGIN:STANDARD
TZOFFSETFROM:-0700
TZOFFSETTO:-0700
TZNAME:MST
DTSTART:20200101T000000
END:STANDARD
END:VTIMEZONE
BEGIN:VEVENT
DTSTART;TZID=America/Phoenix:20210902T080000
DTEND;TZID=America/Phoenix:20210902T170000
DTSTAMP:20260420T070431
CREATED:20210422T171911Z
LAST-MODIFIED:20210422T171930Z
UID:3623-1630569600-1630602000@prescottareayp.org
SUMMARY:Meeting with the Mayor
DESCRIPTION:PRESCOTT MAYOR: Prescott City Hall/Council Chambers\, 201 South Cortez St. 11:00 AM -12:00 PM
URL:https://prescottareayp.org/event/meeting-with-the-mayor-6/
LOCATION:Prescott City Hall\, 201 South Cortez St.\, Prescott\, AZ\, 86303\, United States
ATTACH;FMTTYPE=image/jpeg:https://prescottareayp.org/wp-content/uploads/2020/01/Meeting-with-Mayor-of-Prescott.jpeg
END:VEVENT
BEGIN:VEVENT
DTSTART;TZID=America/Phoenix:20210909T173000
DTEND;TZID=America/Phoenix:20210909T193000
DTSTAMP:20260420T070431
CREATED:20200616T200110Z
LAST-MODIFIED:20210422T170605Z
UID:3560-1631208600-1631215800@prescottareayp.org
SUMMARY:PAYP after 5!⁣ (LazyG Brewhouse)
DESCRIPTION:It’s finally time for another PAYP after 5!⁣\n⁣\nAt LazyG Brewhouse⁣…\n⁣\nSeptember 9th from 5:30 – 7:30 p.m.⁣\n⁣\n220 W. Leroux St.\, Prescott\, AZ 86303⁣\n⁣\nLazyG is a new brewery in Prescott with a neighborhood atmosphere as laid back as the name would suggest. With some of the best bites in town and a nationally award-winning brew master\, you won’t want to miss this mixer!⁣\n⁣\nJuly weather calls for an outdoor gathering in “The Park” – complete with a retro camper trailer that has been converted into a bar. Happy hour pricing extended through the event.⁣\n⁣\nIn order to adhere to current safety guidelines\, attendance will be limited\, so please RSVP. Specific social distancing considerations will be emailed to registrants ahead of the event. ⁣\n⁣\nCome to connect with other young professionals and discover this excellent pub tucked beside Granite Creek just three blocks from the courthouse.⁣
URL:https://prescottareayp.org/event/payp-after-5%e2%81%a3-lazyg-brewhouse/
LOCATION:Lazy G Brewhouse\, 220 W Leroux St\, Prescott\, United States\, 86303
ATTACH;FMTTYPE=image/jpeg:https://prescottareayp.org/wp-content/uploads/2020/06/Lazy-G-Brewhouse.jpg
END:VEVENT
END:VCALENDAR