BEGIN:VCALENDAR
VERSION:2.0
PRODID:-//Prescott Area Young Professionals - ECPv6.15.20//NONSGML v1.0//EN
CALSCALE:GREGORIAN
METHOD:PUBLISH
X-WR-CALNAME:Prescott Area Young Professionals
X-ORIGINAL-URL:https://prescottareayp.org
X-WR-CALDESC:Events for Prescott Area Young Professionals
REFRESH-INTERVAL;VALUE=DURATION:PT1H
X-Robots-Tag:noindex
X-PUBLISHED-TTL:PT1H
BEGIN:VTIMEZONE
TZID:America/Phoenix
BEGIN:STANDARD
TZOFFSETFROM:-0700
TZOFFSETTO:-0700
TZNAME:MST
DTSTART:20200101T000000
END:STANDARD
END:VTIMEZONE
BEGIN:VEVENT
DTSTART;TZID=America/Phoenix:20210805T110000
DTEND;TZID=America/Phoenix:20210805T120000
DTSTAMP:20260420T083850
CREATED:20210422T170906Z
LAST-MODIFIED:20210422T170906Z
UID:3618-1628161200-1628164800@prescottareayp.org
SUMMARY:Meeting with the Mayor
DESCRIPTION:PRESCOTT VALLEY MAYOR: PV Library Crystal Rm\, 7401 E. Skoog Blvd. 11:00 AM -12:00 PM
URL:https://prescottareayp.org/event/meeting-with-the-mayor-2/
LOCATION:Library Crystal Room\, 7401 E. Skoog Blvd (3rd Floor)\, Prescott Valley\, 86314\, United States
ATTACH;FMTTYPE=image/jpeg:https://prescottareayp.org/wp-content/uploads/2020/01/Meeting-with-Mayor-of-Prescott.jpeg
END:VEVENT
BEGIN:VEVENT
DTSTART;TZID=America/Phoenix:20210812T173000
DTEND;TZID=America/Phoenix:20210812T193000
DTSTAMP:20260420T083850
CREATED:20210625T200446Z
LAST-MODIFIED:20210625T200446Z
UID:3654-1628789400-1628796600@prescottareayp.org
SUMMARY:PAYP After 5 Mixer
DESCRIPTION:Makayla Chadwick State Farm\nThursday\, August 12 – 5:30 – 7:30 p.m.\n3700 N Robert Road\, Suite 1\, Prescott Valley 86314\n\n“Life insurance is the greatest proof of love that you can leave our loved ones.” \n\nThe Makayla Chadwick State Farm Insurance office is proud to serve the Quad Cities and surrounding Arizona areas. Makayla became passionate about life insurance after her husband was in an oilfield explosion in 2013.\n\nJoin us to learn more about Makayla’s story\, PLUS free food\, drinks\, swag and a chance to network with other young professionals!
URL:https://prescottareayp.org/event/payp-after-5-mixer-6/
LOCATION:3700 N. Robert Road Suite 1\, 3700 N. Robert Road Suite 1\, Prescott Valley\, AZ\, 86314\, United States
ATTACH;FMTTYPE=image/png:https://prescottareayp.org/wp-content/uploads/2021/06/PAYP-After-5-Mixer.png
END:VEVENT
END:VCALENDAR