BEGIN:VCALENDAR
VERSION:2.0
PRODID:-//Prescott Area Young Professionals - ECPv6.15.20//NONSGML v1.0//EN
CALSCALE:GREGORIAN
METHOD:PUBLISH
X-ORIGINAL-URL:https://prescottareayp.org
X-WR-CALDESC:Events for Prescott Area Young Professionals
REFRESH-INTERVAL;VALUE=DURATION:PT1H
X-Robots-Tag:noindex
X-PUBLISHED-TTL:PT1H
BEGIN:VTIMEZONE
TZID:America/Phoenix
BEGIN:STANDARD
TZOFFSETFROM:-0700
TZOFFSETTO:-0700
TZNAME:MST
DTSTART:20200101T000000
END:STANDARD
END:VTIMEZONE
BEGIN:VEVENT
DTSTART;TZID=America/Phoenix:20210708T173000
DTEND;TZID=America/Phoenix:20210708T190000
DTSTAMP:20260420T101233
CREATED:20210602T151647Z
LAST-MODIFIED:20210621T182428Z
UID:3651-1625765400-1625770800@prescottareayp.org
SUMMARY:PAYP After 5 at Founding Fathers
DESCRIPTION:Founding Fathers Collective \nThursday\, July 8 – 5:30 – 7:30 p.m. \n218 N Granite St\, Prescott\, AZ 86301 \nPAYP’s July mixer is – how appropriate – at Founding Fathers Collective! \nFounding Fathers Collective is a 14\,000 square foot warehouse in Prescott’s downtown Entertainment District\, housing the well-known John Hancock Barbershop accompanied by a self-serve beer tap room\, Specialty Coffee shop\, men’s retail\, functional fitness gym\, and Jiu-jitsu studio. \nCome celebrate our country’s birthday and our local community with complimentary food and $5 off your bar tab. Don’t miss this chance to connect with other young professionals!
URL:https://prescottareayp.org/event/payp-after-5-at-founding-fathers/
LOCATION:Founding Fathers Collective\, 218 N Granite St\, Prescott\, AZ\, 86301\, United States
ATTACH;FMTTYPE=image/png:https://prescottareayp.org/wp-content/uploads/2021/03/Mixer.png
END:VEVENT
END:VCALENDAR