BEGIN:VCALENDAR
VERSION:2.0
PRODID:-//Prescott Area Young Professionals - ECPv6.15.20//NONSGML v1.0//EN
CALSCALE:GREGORIAN
METHOD:PUBLISH
X-ORIGINAL-URL:https://prescottareayp.org
X-WR-CALDESC:Events for Prescott Area Young Professionals
REFRESH-INTERVAL;VALUE=DURATION:PT1H
X-Robots-Tag:noindex
X-PUBLISHED-TTL:PT1H
BEGIN:VTIMEZONE
TZID:America/Phoenix
BEGIN:STANDARD
TZOFFSETFROM:-0700
TZOFFSETTO:-0700
TZNAME:MST
DTSTART:20200101T000000
END:STANDARD
END:VTIMEZONE
BEGIN:VEVENT
DTSTART;TZID=America/Phoenix:20210408T173000
DTEND;TZID=America/Phoenix:20210408T193000
DTSTAMP:20260420T150049
CREATED:20210301T204946Z
LAST-MODIFIED:20210301T204946Z
UID:3610-1617903000-1617910200@prescottareayp.org
SUMMARY:PAYP After 5 Mixer
DESCRIPTION:SpringHill Suites by Marriott \nThursday\, April 8 – 5:30 – 7:30 p.m. \n200 East Sheldon St.\, Prescott 86301 \nCheck out the freshly renovated SpringHill Suites by Marriott\, located in the heart of downtown Prescott just steps from Whiskey Row and all the shops and restaurants that make this such a great place to live and visit. \nNot to be missed: Complimentary food\, beer\, wine and the opportunity to connect with other young professionals! \nPAYP takes the health and safety of our members and community seriously. We ask that if you are ill or have been exposed to someone ill that you choose not to attend our events. Attendees are encouraged to adhere to social distancing guidelines and any recommendations of the CDC to prevent the spread of COVID-19 and flu-like illnesses. Based on local COVID-19 conditions and any restrictions in place at the time\, events may be postponed or canceled.
URL:https://prescottareayp.org/event/payp-after-5-mixer-4/
LOCATION:200 East Sheldon St.\, Prescott 86301\, 200 East Sheldon St.\, Prescott\, 86301\, United States
ATTACH;FMTTYPE=image/png:https://prescottareayp.org/wp-content/uploads/2021/03/Mixer.png
END:VEVENT
END:VCALENDAR