BEGIN:VCALENDAR
VERSION:2.0
PRODID:-//Prescott Area Young Professionals - ECPv6.15.20//NONSGML v1.0//EN
CALSCALE:GREGORIAN
METHOD:PUBLISH
X-ORIGINAL-URL:https://prescottareayp.org
X-WR-CALDESC:Events for Prescott Area Young Professionals
REFRESH-INTERVAL;VALUE=DURATION:PT1H
X-Robots-Tag:noindex
X-PUBLISHED-TTL:PT1H
BEGIN:VTIMEZONE
TZID:America/Phoenix
BEGIN:STANDARD
TZOFFSETFROM:-0700
TZOFFSETTO:-0700
TZNAME:MST
DTSTART:20200101T000000
END:STANDARD
END:VTIMEZONE
BEGIN:VEVENT
DTSTART;TZID=America/Phoenix:20210605T090000
DTEND;TZID=America/Phoenix:20210605T235900
DTSTAMP:20260420T132848
CREATED:20210422T172525Z
LAST-MODIFIED:20210601T162315Z
UID:3624-1622883600-1622937540@prescottareayp.org
SUMMARY:PAYP Scavenger Hunt
DESCRIPTION:Party in Prescott Scavenger Hunt Presented by Prescott News Network & The Daily Courier and the following sponsors. \n \nParty in Prescott Scavenger Hunt Presented by Prescott News Network & The Daily Courier \nJoin the Prescott Area Young Professionals for a day of discounts and discovery in downtown Prescott and the Quad Cities. Participants download the Goose Chase app on their phone and are given access to a list of locations across the quad cities to find and snap a picture of. \nLocations include local businesses offering discounts\, historical landmarks and riddles. Top three point-earners will win one of three grand prize Prescott-area stay & play packages. \nRegister Now \nYour mission\, should you choose to accept it: \n✅ Register & pay your $10 entry fee \nEach player must register individually. 17 and under play free – no need to register the kids! \n✅ Download the Goose Chase app on your phone and create an account (available for iOS and Android) \nLearn more about how the Goose Chase app works here. We’ll provide the Party in Prescott custom game code after you register. \nAccess to the list of missions will start ahead of the game so you have a chance to plan your day – but you can’t submit any photos until Saturday\, June 5th! \n✅ Check in at the corner of Goodwin and Montezuma in downtown Prescott between 9 a.m. and 2 p.m. on June 5th \nGrab your swag bag\, use this spot to meet up with the rest of your team\, or ask us any last-minute questions and get to hunting! Check-in is not necessary to begin game play on your phone. \n✅ Select from the list of missions and follow the instructions to receive the allotted points. \nDiscover Prescott-area landmarks\, take advantage of discounts at participating local businesses\, and try to answer riddles. Don’t forget to take a photo at each spot to document your success! Extra points may be awarded for the most creative and fun photos. \nParticipants can choose to do as many or as few locations as they want\, with the bulk of locations within walking distance of downtown Prescott. Whenever someone completes a mission\, it’s added to the activity feed and the rankings are automatically updated. \n✅ WIN an overnight stay in the Prescott area along with a variety of local activities. \nRemember that while you receive the points right away\, all submissions are subject to review by the organizer. PAYP will tabulate points and announce winners by Saturday\, June 12. \nIf you play on a team and win one of the prize packages\, only one prize package will be awarded to the team as a whole. \nRegister Now \nIn-App Discounts at Participating Businesses: \nAnd more being added all the time! \nThank you to our sponsors! \nQuestions? Let us know at prescottyp@gmail.com \nDisclaimer: Winners must be 18 or older and registered for the Party in Prescott Scavenger Hunt through the Gosse Chase app. Winners will be selected based on number of points earned during game play. Points are awarded immediately within the Goose Chase app but are subject to review by PAYP in order to ensure completion of missions. Winners will be announced within one week of the end of game play and may be contacted via phone or email to arrange pick up of prize items.  \nRegister Now\n  \nAccess In-App Discounts at: \n \nAnd more being added all the time! \nThank you to our prize sponsors! \n \nQuestions? Let us know at prescottyp@gmail.com\nRegister Today.
URL:https://prescottareayp.org/event/payp-scavenger-hunt/
LOCATION:AZ
ATTACH;FMTTYPE=image/png:https://prescottareayp.org/wp-content/uploads/2021/04/PAYP-Scavenger-Hunt.png
END:VEVENT
END:VCALENDAR