BEGIN:VCALENDAR
VERSION:2.0
PRODID:-//Prescott Area Young Professionals - ECPv6.15.20//NONSGML v1.0//EN
CALSCALE:GREGORIAN
METHOD:PUBLISH
X-ORIGINAL-URL:https://prescottareayp.org
X-WR-CALDESC:Events for Prescott Area Young Professionals
REFRESH-INTERVAL;VALUE=DURATION:PT1H
X-Robots-Tag:noindex
X-PUBLISHED-TTL:PT1H
BEGIN:VTIMEZONE
TZID:America/Phoenix
BEGIN:STANDARD
TZOFFSETFROM:-0700
TZOFFSETTO:-0700
TZNAME:MST
DTSTART:20200101T000000
END:STANDARD
END:VTIMEZONE
BEGIN:VEVENT
DTSTART;TZID=America/Phoenix:20210513T170000
DTEND;TZID=America/Phoenix:20210513T190000
DTSTAMP:20260420T145942
CREATED:20210422T170421Z
LAST-MODIFIED:20210422T170421Z
UID:3614-1620925200-1620932400@prescottareayp.org
SUMMARY:PAYP After 5 Mixer
DESCRIPTION:PAYP After 5 mixers happen the second Thursday of each month. After 5 is meant to provide a fun and engaging environment for members and prospective members to connect on a professional or personal level. \nMay 13 (The Triple Creek Kitchen & Spirits at Hilton Garden Inn Prescott Downtown\, 300 N Montezuma St\, Prescott\, AZ 86301)
URL:https://prescottareayp.org/event/payp-after-5-mixer-5/
LOCATION:The Tripple Creek\, 300 N Montezuma St\, Prescott\, AZ\, 86301\, United States
ATTACH;FMTTYPE=image/png:https://prescottareayp.org/wp-content/uploads/2020/02/Prescott-Area-Young-Professionals-Wine-Tasting.png
END:VEVENT
END:VCALENDAR