BEGIN:VCALENDAR
VERSION:2.0
PRODID:-//Prescott Area Young Professionals - ECPv6.15.20//NONSGML v1.0//EN
CALSCALE:GREGORIAN
METHOD:PUBLISH
X-ORIGINAL-URL:https://prescottareayp.org
X-WR-CALDESC:Events for Prescott Area Young Professionals
REFRESH-INTERVAL;VALUE=DURATION:PT1H
X-Robots-Tag:noindex
X-PUBLISHED-TTL:PT1H
BEGIN:VTIMEZONE
TZID:America/Phoenix
BEGIN:STANDARD
TZOFFSETFROM:-0700
TZOFFSETTO:-0700
TZNAME:MST
DTSTART:20200101T000000
END:STANDARD
END:VTIMEZONE
BEGIN:VEVENT
DTSTART;TZID=America/Phoenix:20210211T173000
DTEND;TZID=America/Phoenix:20210211T193000
DTSTAMP:20260420T201835
CREATED:20210106T215640Z
LAST-MODIFIED:20210106T215640Z
UID:3602-1613064600-1613071800@prescottareayp.org
SUMMARY:PAYP After 5 Mixer
DESCRIPTION:The Garden Event Center \nThursday\, February 11 – 5:30 – 7:30 p.m. \n3250 Gateway Blvd. #516\, Prescott 86301 \nYou may know The Natural Healing Garden. You may know Goods from the Garden Events and Catering. But did you know they have a dedicated event space at the Gateway Mall? \nCome witness the revitalization happening at our local mall\, with free drinks\, appetizers and a signature PAYP cocktail invented just for us at the Garden Event Center! \nPAYP takes the health and safety of our members and community seriously. We ask that if you are ill or have been exposed to someone ill that you choose not to attend our events. Attendees are encouraged to adhere to social distancing guidelines and any recommendations of the CDC to prevent the spread of COVID-19 and flu-like illnesses. Based on local COVID-19 conditions and any restrictions in place at the time\, events may be postponed or canceled.
URL:https://prescottareayp.org/event/payp-after-5-mixer-2/
LOCATION:The Garden Event Center\, 3250 Gateway Blvd. #516\, Prescott\, AZ\, 86301\, United States
ATTACH;FMTTYPE=image/png:https://prescottareayp.org/wp-content/uploads/2021/01/After-5-at-the-Garden-Event-Center.png
END:VEVENT
END:VCALENDAR