BEGIN:VCALENDAR
VERSION:2.0
PRODID:-//Prescott Area Young Professionals - ECPv6.15.20//NONSGML v1.0//EN
CALSCALE:GREGORIAN
METHOD:PUBLISH
X-WR-CALNAME:Prescott Area Young Professionals
X-ORIGINAL-URL:https://prescottareayp.org
X-WR-CALDESC:Events for Prescott Area Young Professionals
REFRESH-INTERVAL;VALUE=DURATION:PT1H
X-Robots-Tag:noindex
X-PUBLISHED-TTL:PT1H
BEGIN:VTIMEZONE
TZID:America/Phoenix
BEGIN:STANDARD
TZOFFSETFROM:-0700
TZOFFSETTO:-0700
TZNAME:MST
DTSTART:20200101T000000
END:STANDARD
END:VTIMEZONE
BEGIN:VEVENT
DTSTART;TZID=America/Phoenix:20210114T173000
DTEND;TZID=America/Phoenix:20210114T193000
DTSTAMP:20260420T221218
CREATED:20210106T214636Z
LAST-MODIFIED:20210106T215227Z
UID:3599-1610645400-1610652600@prescottareayp.org
SUMMARY:PAYP After 5 Mixer
DESCRIPTION:Icha Maajoh Room\, Prescott Resort & Conference Center \nThursday\, January 14 – 5:30 – 7:30 p.m. \n1500 Hwy 69\, Prescott\, AZ 86301 \nJoin local young professionals at Prescott Resort’s Icha Maajoh Room\, a reimagining of the restaurant – now just for private events – overlooking magnificent views of Prescott. \nThe large space allows for social distancing while mixing and mingling with other young professionals plus the option to hang out on the patio in the crisp winter air. \nPAYP takes the health and safety of our members and community seriously. We ask that if you are ill or have been exposed to someone ill that you choose not to attend our events. Attendees are encouraged to adhere to social distancing guidelines and any recommendations of the CDC to prevent the spread of COVID-19 and flu-like illnesses. Based on local COVID-19 conditions and any restrictions in place at the time\, events may be postponed or canceled.
URL:https://prescottareayp.org/event/payp-after-5-mixer/
LOCATION:Prescott Resort & Conference Room\, 1500 Hwy 69\, Prescott\, AZ\, 86301\, United States
ATTACH;FMTTYPE=image/png:https://prescottareayp.org/wp-content/uploads/2021/01/Prescott-Resort.png
END:VEVENT
END:VCALENDAR