BEGIN:VCALENDAR
VERSION:2.0
PRODID:-//Prescott Area Young Professionals - ECPv6.15.20//NONSGML v1.0//EN
CALSCALE:GREGORIAN
METHOD:PUBLISH
X-WR-CALNAME:Prescott Area Young Professionals
X-ORIGINAL-URL:https://prescottareayp.org
X-WR-CALDESC:Events for Prescott Area Young Professionals
REFRESH-INTERVAL;VALUE=DURATION:PT1H
X-Robots-Tag:noindex
X-PUBLISHED-TTL:PT1H
BEGIN:VTIMEZONE
TZID:America/Phoenix
BEGIN:STANDARD
TZOFFSETFROM:-0700
TZOFFSETTO:-0700
TZNAME:MST
DTSTART:20190101T000000
END:STANDARD
END:VTIMEZONE
BEGIN:VEVENT
DTSTART;TZID=America/Phoenix:20200409T173000
DTEND;TZID=America/Phoenix:20200409T193000
DTSTAMP:20260421T131536
CREATED:20200224T161928Z
LAST-MODIFIED:20200224T161928Z
UID:3542-1586453400-1586460600@prescottareayp.org
SUMMARY:After 5 at Granite Creek Vineyards
DESCRIPTION:Granite Creek Vineyards \nThursday\, April 9 – 5:30 – 7:30 p.m. \n2515 N. Road 1 East\, Chino Valley\, AZ 86323 \nPicturesque Granite Creek Vineyards is a family owned and operated vineyard and winery\, located in the Town of Chino Valley. \nWith award-winning wine and an atmosphere that manages to be both lush and rustic – complete with peacocks roaming the property – you’ll forget you’re in the middle of rural Arizona. \nJoin us for this exclusive PAYP event – $1 off single pours and tasting flights. Light snacks provided. If you’re not familiar with GCV or don’t live in Chino\, we promise it’s worth the excursion!
URL:https://prescottareayp.org/event/after-5-at-granite-creek-vineyards/
LOCATION:Granite Creek Vineyards\, 2515 N. Road 1 East\, Chino Valley\, 86323\, United States
ATTACH;FMTTYPE=image/png:https://prescottareayp.org/wp-content/uploads/2020/02/Prescott-Area-Young-Professionals-Wine-Tasting.png
END:VEVENT
END:VCALENDAR