BEGIN:VCALENDAR
VERSION:2.0
PRODID:-//Prescott Area Young Professionals - ECPv6.15.20//NONSGML v1.0//EN
CALSCALE:GREGORIAN
METHOD:PUBLISH
X-WR-CALNAME:Prescott Area Young Professionals
X-ORIGINAL-URL:https://prescottareayp.org
X-WR-CALDESC:Events for Prescott Area Young Professionals
REFRESH-INTERVAL;VALUE=DURATION:PT1H
X-Robots-Tag:noindex
X-PUBLISHED-TTL:PT1H
BEGIN:VTIMEZONE
TZID:America/Phoenix
BEGIN:STANDARD
TZOFFSETFROM:-0700
TZOFFSETTO:-0700
TZNAME:MST
DTSTART:20190101T000000
END:STANDARD
END:VTIMEZONE
BEGIN:VEVENT
DTSTART;TZID=America/Phoenix:20200325T120000
DTEND;TZID=America/Phoenix:20200325T133000
DTSTAMP:20260421T150311
CREATED:20200306T175445Z
LAST-MODIFIED:20200306T175445Z
UID:3548-1585137600-1585143000@prescottareayp.org
SUMMARY:Proof It!
DESCRIPTION:
URL:https://prescottareayp.org/event/proof-it/
LOCATION:BBB\, 213 Grove Ave\, Prescott\, AZ\, 86301\, United States
ATTACH;FMTTYPE=image/jpeg:https://prescottareayp.org/wp-content/uploads/2020/03/Email-Class.jpg
END:VEVENT
END:VCALENDAR