BEGIN:VCALENDAR
VERSION:2.0
PRODID:-//Prescott Area Young Professionals - ECPv6.15.20//NONSGML v1.0//EN
CALSCALE:GREGORIAN
METHOD:PUBLISH
X-ORIGINAL-URL:https://prescottareayp.org
X-WR-CALDESC:Events for Prescott Area Young Professionals
REFRESH-INTERVAL;VALUE=DURATION:PT1H
X-Robots-Tag:noindex
X-PUBLISHED-TTL:PT1H
BEGIN:VTIMEZONE
TZID:America/Phoenix
BEGIN:STANDARD
TZOFFSETFROM:-0700
TZOFFSETTO:-0700
TZNAME:MST
DTSTART:20190101T000000
END:STANDARD
END:VTIMEZONE
BEGIN:VEVENT
DTSTART;TZID=America/Phoenix:20200312T053000
DTEND;TZID=America/Phoenix:20200312T193000
DTSTAMP:20260421T150405
CREATED:20200206T010152Z
LAST-MODIFIED:20200306T000444Z
UID:3535-1583991000-1584041400@prescottareayp.org
SUMMARY:5 After 5 at Murphy's
DESCRIPTION:Celebrate St. Patrick’s Day a few days early at Prescott’s historic Murphy’s restaurant\, housed in an 1890 mercantile building at the corner of Cortez and Willis. \nBack in the day\, mercantile owner J.I. Gardner promised: All Goods Guaranteed to be First Class. Today\, Murphy’s continues this legacy of quality\, serving only the finest. \nMix and mingle with other young professionals – even better with half price appetizers and happy hour drinks – up in the mezzanine area.
URL:https://prescottareayp.org/event/5-after-5-at-murphys/
LOCATION:Murphy’s\, 201 N. Cortez St.\, Prescott\, AZ\, 86301\, United States
ATTACH;FMTTYPE=image/jpeg:https://prescottareayp.org/wp-content/uploads/2020/02/Networking-Group-in-Prescott.jpg
END:VEVENT
END:VCALENDAR