BEGIN:VCALENDAR
VERSION:2.0
PRODID:-//Prescott Area Young Professionals - ECPv6.15.20//NONSGML v1.0//EN
CALSCALE:GREGORIAN
METHOD:PUBLISH
X-WR-CALNAME:Prescott Area Young Professionals
X-ORIGINAL-URL:https://prescottareayp.org
X-WR-CALDESC:Events for Prescott Area Young Professionals
REFRESH-INTERVAL;VALUE=DURATION:PT1H
X-Robots-Tag:noindex
X-PUBLISHED-TTL:PT1H
BEGIN:VTIMEZONE
TZID:UTC
BEGIN:STANDARD
TZOFFSETFROM:+0000
TZOFFSETTO:+0000
TZNAME:UTC
DTSTART:20190101T000000
END:STANDARD
END:VTIMEZONE
BEGIN:VEVENT
DTSTART;TZID=UTC:20200213T173000
DTEND;TZID=UTC:20200213T193000
DTSTAMP:20260421T164124
CREATED:20200110T013126Z
LAST-MODIFIED:20200117T000439Z
UID:3484-1581615000-1581622200@prescottareayp.org
SUMMARY:Watson and Willow
DESCRIPTION:
URL:https://prescottareayp.org/event/watson-and-willow/
LOCATION:Watson & Willow\, 105 E. Gurley Street\, Prescott\, AZ\, 86301\, United States
ATTACH;FMTTYPE=image/jpeg:https://prescottareayp.org/wp-content/uploads/2020/01/Prescott-Networking-Group-at-Watson-Willow-Clothing.jpeg
END:VEVENT
END:VCALENDAR